BEGIN:VCALENDAR
VERSION:2.0
PRODID:-//Bhavana Pujan Kendra - ECPv6.15.20//NONSGML v1.0//EN
CALSCALE:GREGORIAN
METHOD:PUBLISH
X-WR-CALNAME:Bhavana Pujan Kendra
X-ORIGINAL-URL:https://bhawnayagya.org
X-WR-CALDESC:Events for Bhavana Pujan Kendra
REFRESH-INTERVAL;VALUE=DURATION:PT1H
X-Robots-Tag:noindex
X-PUBLISHED-TTL:PT1H
BEGIN:VTIMEZONE
TZID:UTC
BEGIN:STANDARD
TZOFFSETFROM:+0000
TZOFFSETTO:+0000
TZNAME:UTC
DTSTART:20250101T000000
END:STANDARD
END:VTIMEZONE
BEGIN:VEVENT
DTSTART;VALUE=DATE:20260511
DTEND;VALUE=DATE:20260512
DTSTAMP:20260423T060350
CREATED:20260219T152513Z
LAST-MODIFIED:20260219T152513Z
UID:7389-1778457600-1778543999@bhawnayagya.org
SUMMARY:Mars Group Yagya May 11\, 2026
DESCRIPTION:
URL:https://bhawnayagya.org/event/mars-group-yagya-may-11-2026/
END:VEVENT
BEGIN:VEVENT
DTSTART;VALUE=DATE:20260516
DTEND;VALUE=DATE:20260517
DTSTAMP:20260423T060350
CREATED:20260219T153407Z
LAST-MODIFIED:20260219T153407Z
UID:7393-1778889600-1778975999@bhawnayagya.org
SUMMARY:Saturn Group Yagya May 16\, 2026
DESCRIPTION:
URL:https://bhawnayagya.org/event/saturn-group-yagya-may-16-2026/
CATEGORIES:Yagya
END:VEVENT
BEGIN:VEVENT
DTSTART;VALUE=DATE:20260517
DTEND;VALUE=DATE:20260616
DTSTAMP:20260423T060350
CREATED:20260219T152634Z
LAST-MODIFIED:20260219T155250Z
UID:7391-1778976000-1781567999@bhawnayagya.org
SUMMARY:Lakshmi Narayan Group Yagya May 17\, 2026 - June 15\, 2026
DESCRIPTION:
URL:https://bhawnayagya.org/event/lakshmi-narayan-group-yagya-may-17-2026-june-15-2026/
END:VEVENT
BEGIN:VEVENT
DTSTART;VALUE=DATE:20260525
DTEND;VALUE=DATE:20260526
DTSTAMP:20260423T060350
CREATED:20260219T153546Z
LAST-MODIFIED:20260219T155602Z
UID:7395-1779667200-1779753599@bhawnayagya.org
SUMMARY:Ganga Dussehra  Yagya May 25\, 2026
DESCRIPTION:
URL:https://bhawnayagya.org/event/ganga-dussehra-yagya-may-25-2026/
END:VEVENT
BEGIN:VEVENT
DTSTART;VALUE=DATE:20260531
DTEND;VALUE=DATE:20260601
DTSTAMP:20260423T060350
CREATED:20260219T153715Z
LAST-MODIFIED:20260219T153715Z
UID:7397-1780185600-1780271999@bhawnayagya.org
SUMMARY:Satya Narayana Full-Moon Wish-Fulfilling May 31\, 2026
DESCRIPTION:
URL:https://bhawnayagya.org/event/satya-narayana-full-moon-wish-fulfilling-may-31-2026/
CATEGORIES:Yagya
END:VEVENT
END:VCALENDAR