BEGIN:VCALENDAR
VERSION:2.0
PRODID:-//Bhavana Pujan Kendra - ECPv6.15.20//NONSGML v1.0//EN
CALSCALE:GREGORIAN
METHOD:PUBLISH
X-WR-CALNAME:Bhavana Pujan Kendra
X-ORIGINAL-URL:https://bhawnayagya.org
X-WR-CALDESC:Events for Bhavana Pujan Kendra
REFRESH-INTERVAL;VALUE=DURATION:PT1H
X-Robots-Tag:noindex
X-PUBLISHED-TTL:PT1H
BEGIN:VTIMEZONE
TZID:UTC
BEGIN:STANDARD
TZOFFSETFROM:+0000
TZOFFSETTO:+0000
TZNAME:UTC
DTSTART:20250101T000000
END:STANDARD
END:VTIMEZONE
BEGIN:VEVENT
DTSTART;VALUE=DATE:20260103
DTEND;VALUE=DATE:20260104
DTSTAMP:20260420T163338
CREATED:20251114T193507Z
LAST-MODIFIED:20251114T193507Z
UID:6897-1767398400-1767484799@bhawnayagya.org
SUMMARY:Rahu Group Yagya Jan. 3\, 2026
DESCRIPTION:
URL:https://bhawnayagya.org/event/rahu-group-yagya-jan-3-2026/
END:VEVENT
BEGIN:VEVENT
DTSTART;VALUE=DATE:20260106
DTEND;VALUE=DATE:20260107
DTSTAMP:20260420T163338
CREATED:20251114T193606Z
LAST-MODIFIED:20251114T193606Z
UID:6899-1767657600-1767743999@bhawnayagya.org
SUMMARY:Ganesh Removal of Obstacles Group Yagya Jan. 6\, 2026
DESCRIPTION:
URL:https://bhawnayagya.org/event/ganesh-removal-of-obstacles-group-yagya-jan-6-2026/
CATEGORIES:Yagya
END:VEVENT
BEGIN:VEVENT
DTSTART;VALUE=DATE:20260112
DTEND;VALUE=DATE:20260113
DTSTAMP:20260420T163338
CREATED:20251114T193659Z
LAST-MODIFIED:20251114T193659Z
UID:6901-1768176000-1768262399@bhawnayagya.org
SUMMARY:Om Nad Gayatri Maharishi Anniversary Yagya Jan. 12\, 2026
DESCRIPTION:
URL:https://bhawnayagya.org/event/om-nad-gayatri-maharishi-anniversary-yagya-jan-12-2026/
CATEGORIES:Yagya
END:VEVENT
BEGIN:VEVENT
DTSTART;VALUE=DATE:20260114
DTEND;VALUE=DATE:20260115
DTSTAMP:20260420T163338
CREATED:20251114T193752Z
LAST-MODIFIED:20251114T193752Z
UID:6903-1768348800-1768435199@bhawnayagya.org
SUMMARY:Sun Protector Of Eyesight Yagya on Makar Sankranti Jan. 14\, 2026
DESCRIPTION:
URL:https://bhawnayagya.org/event/sun-protector-of-eyesight-yagya-on-makar-sankranti-jan-14-2026/
CATEGORIES:Yagya
END:VEVENT
BEGIN:VEVENT
DTSTART;VALUE=DATE:20260119
DTEND;VALUE=DATE:20260124
DTSTAMP:20260420T163338
CREATED:20251114T193856Z
LAST-MODIFIED:20251114T193856Z
UID:6905-1768780800-1769212799@bhawnayagya.org
SUMMARY:Secret Mother Divine Days Group Yagya Jan. 19 - 23\, 2026
DESCRIPTION:
URL:https://bhawnayagya.org/event/secret-mother-divine-days-group-yagya-jan-19-23-2026/
END:VEVENT
BEGIN:VEVENT
DTSTART;VALUE=DATE:20260123
DTEND;VALUE=DATE:20260124
DTSTAMP:20260420T163338
CREATED:20251114T193946Z
LAST-MODIFIED:20251114T193946Z
UID:6907-1769126400-1769212799@bhawnayagya.org
SUMMARY:Saraswati Yagya on Vasant Panchami Day Jan. 23\, 2026
DESCRIPTION:
URL:https://bhawnayagya.org/event/saraswati-yagya-on-vasant-panchami-day-jan-23-2026/
CATEGORIES:Yagya
END:VEVENT
END:VCALENDAR