BEGIN:VCALENDAR
VERSION:2.0
PRODID:-//Bhavana Pujan Kendra - ECPv6.15.20//NONSGML v1.0//EN
CALSCALE:GREGORIAN
METHOD:PUBLISH
X-WR-CALNAME:Bhavana Pujan Kendra
X-ORIGINAL-URL:https://bhawnayagya.org
X-WR-CALDESC:Events for Bhavana Pujan Kendra
REFRESH-INTERVAL;VALUE=DURATION:PT1H
X-Robots-Tag:noindex
X-PUBLISHED-TTL:PT1H
BEGIN:VTIMEZONE
TZID:UTC
BEGIN:STANDARD
TZOFFSETFROM:+0000
TZOFFSETTO:+0000
TZNAME:UTC
DTSTART:20240101T000000
END:STANDARD
END:VTIMEZONE
BEGIN:VEVENT
DTSTART;VALUE=DATE:20251204
DTEND;VALUE=DATE:20251205
DTSTAMP:20260420T145033
CREATED:20250805T150540Z
LAST-MODIFIED:20250805T150540Z
UID:6369-1764806400-1764892799@bhawnayagya.org
SUMMARY:Dattatreya Brahma\, Vishnu & Shiva Yagya
DESCRIPTION:
URL:https://bhawnayagya.org/event/dattatreya-brahma-vishnu-shiva-yagya/
END:VEVENT
BEGIN:VEVENT
DTSTART;VALUE=DATE:20251207
DTEND;VALUE=DATE:20251208
DTSTAMP:20260420T145033
CREATED:20250805T150614Z
LAST-MODIFIED:20250805T150614Z
UID:6371-1765065600-1765151999@bhawnayagya.org
SUMMARY:Mars Support Group Yagya
DESCRIPTION:
URL:https://bhawnayagya.org/event/mars-support-group-yagya/
END:VEVENT
BEGIN:VEVENT
DTSTART;VALUE=DATE:20251215
DTEND;VALUE=DATE:20251216
DTSTAMP:20260420T145033
CREATED:20250805T150651Z
LAST-MODIFIED:20250805T150651Z
UID:6373-1765756800-1765843199@bhawnayagya.org
SUMMARY:Venus Combust Group Yagya
DESCRIPTION:
URL:https://bhawnayagya.org/event/venus-combust-group-yagya/
END:VEVENT
BEGIN:VEVENT
DTSTART;VALUE=DATE:20251216
DTEND;VALUE=DATE:20251231
DTSTAMP:20260420T145033
CREATED:20250805T150751Z
LAST-MODIFIED:20250805T150751Z
UID:6375-1765843200-1767139199@bhawnayagya.org
SUMMARY:Navagraha Nakshatra 9 Planet & 27 Moon Signs Two Week Group Yagya
DESCRIPTION:
URL:https://bhawnayagya.org/event/navagraha-nakshatra-9-planet-27-moon-signs-two-week-group-yagya/
END:VEVENT
BEGIN:VEVENT
DTSTART;VALUE=DATE:20251219
DTEND;VALUE=DATE:20251220
DTSTAMP:20260420T145033
CREATED:20250805T150833Z
LAST-MODIFIED:20250805T150833Z
UID:6377-1766102400-1766188799@bhawnayagya.org
SUMMARY:Kamadhenu Wish-Fulfilling Yagya
DESCRIPTION:
URL:https://bhawnayagya.org/event/kamadhenu-wish-fulfilling-yagya-3/
END:VEVENT
BEGIN:VEVENT
DTSTART;VALUE=DATE:20251223
DTEND;VALUE=DATE:20251228
DTSTAMP:20260420T145033
CREATED:20250805T150924Z
LAST-MODIFIED:20250805T150924Z
UID:6379-1766448000-1766879999@bhawnayagya.org
SUMMARY:Ma Mangal Gauri New Year Blessing 4 Day Group Yagya
DESCRIPTION:
URL:https://bhawnayagya.org/event/ma-mangal-gauri-new-year-blessing-4-day-group-yagya/
END:VEVENT
END:VCALENDAR