BEGIN:VCALENDAR
VERSION:2.0
PRODID:-//Bhavana Pujan Kendra - ECPv6.15.20//NONSGML v1.0//EN
CALSCALE:GREGORIAN
METHOD:PUBLISH
X-ORIGINAL-URL:https://bhawnayagya.org
X-WR-CALDESC:Events for Bhavana Pujan Kendra
REFRESH-INTERVAL;VALUE=DURATION:PT1H
X-Robots-Tag:noindex
X-PUBLISHED-TTL:PT1H
BEGIN:VTIMEZONE
TZID:UTC
BEGIN:STANDARD
TZOFFSETFROM:+0000
TZOFFSETTO:+0000
TZNAME:UTC
DTSTART:20240101T000000
END:STANDARD
END:VTIMEZONE
BEGIN:VEVENT
DTSTART;VALUE=DATE:20250711
DTEND;VALUE=DATE:20250809
DTSTAMP:20260420T084033
CREATED:20250502T193656Z
LAST-MODIFIED:20250502T193656Z
UID:5793-1752192000-1754697599@bhawnayagya.org
SUMMARY:Lord Shiva's Month Group Yagya July 11- Aug. 8\, 2025
DESCRIPTION:
URL:https://bhawnayagya.org/event/lord-shivas-month-group-yagya-july-11-aug-8-2025/
CATEGORIES:Yagya
END:VEVENT
BEGIN:VEVENT
DTSTART;VALUE=DATE:20250810
DTEND;VALUE=DATE:20250811
DTSTAMP:20260420T084033
CREATED:20250503T190714Z
LAST-MODIFIED:20250503T190714Z
UID:5815-1754784000-1754870399@bhawnayagya.org
SUMMARY:Mars Group Yagya for Economic Stability Aug. 10\, 2025
DESCRIPTION:
URL:https://bhawnayagya.org/event/mars-group-yagya-for-economic-stability-aug-10-2025/
END:VEVENT
BEGIN:VEVENT
DTSTART;VALUE=DATE:20250815
DTEND;VALUE=DATE:20250816
DTSTAMP:20260420T084033
CREATED:20250502T193913Z
LAST-MODIFIED:20250502T193913Z
UID:5800-1755216000-1755302399@bhawnayagya.org
SUMMARY:Lord Krishna Birthday Group Yagya for Love & Devotion Aug. 15\, 2025
DESCRIPTION:
URL:https://bhawnayagya.org/event/lord-krishna-birthday-group-yagya-for-love-devotion-aug-15-2025/
END:VEVENT
BEGIN:VEVENT
DTSTART;VALUE=DATE:20250823
DTEND;VALUE=DATE:20250824
DTSTAMP:20260420T084033
CREATED:20250502T194102Z
LAST-MODIFIED:20250502T194102Z
UID:5804-1755907200-1755993599@bhawnayagya.org
SUMMARY:Kamadhenu Wish-Fulling Yagya Aug. 23\, 2025
DESCRIPTION:
URL:https://bhawnayagya.org/event/kamadhenu-wish-fulling-yagya-aug-23-2025/
END:VEVENT
BEGIN:VEVENT
DTSTART;VALUE=DATE:20250826
DTEND;VALUE=DATE:20250827
DTSTAMP:20260420T084033
CREATED:20250805T145410Z
LAST-MODIFIED:20250805T145410Z
UID:6343-1756166400-1756252799@bhawnayagya.org
SUMMARY:Haritalika Teej Good Relationship & Family Harmony
DESCRIPTION:
URL:https://bhawnayagya.org/event/haritalika-teej-good-relationship-family-harmony/
END:VEVENT
BEGIN:VEVENT
DTSTART;VALUE=DATE:20250827
DTEND;VALUE=DATE:20250906
DTSTAMP:20260420T084033
CREATED:20250502T194021Z
LAST-MODIFIED:20250502T194021Z
UID:5802-1756252800-1757116799@bhawnayagya.org
SUMMARY:Ganesh Chathurthi Removal of Obstacles 10 Day Group Yagya Aug. 27 - Sept. 5\, 2025
DESCRIPTION:
URL:https://bhawnayagya.org/event/ganesh-chathurthi-removal-of-obstacles-10-day-group-yagya-aug-27-sept-5-2025/
END:VEVENT
END:VCALENDAR