BEGIN:VCALENDAR
VERSION:2.0
PRODID:-//Bhavana Pujan Kendra - ECPv6.15.20//NONSGML v1.0//EN
CALSCALE:GREGORIAN
METHOD:PUBLISH
X-ORIGINAL-URL:https://bhawnayagya.org
X-WR-CALDESC:Events for Bhavana Pujan Kendra
REFRESH-INTERVAL;VALUE=DURATION:PT1H
X-Robots-Tag:noindex
X-PUBLISHED-TTL:PT1H
BEGIN:VTIMEZONE
TZID:UTC
BEGIN:STANDARD
TZOFFSETFROM:+0000
TZOFFSETTO:+0000
TZNAME:UTC
DTSTART:20230101T000000
END:STANDARD
END:VTIMEZONE
BEGIN:VEVENT
DTSTART;VALUE=DATE:20241101
DTEND;VALUE=DATE:20241102
DTSTAMP:20260420T083930
CREATED:20241018T194542Z
LAST-MODIFIED:20241018T194542Z
UID:4879-1730419200-1730505599@bhawnayagya.org
SUMMARY:Deepavali Mahalakshmi Wealth Days Nov. 1\, 2024
DESCRIPTION:
URL:https://bhawnayagya.org/event/deepavali-mahalakshmi-wealth-days-nov-1-2024/
END:VEVENT
BEGIN:VEVENT
DTSTART;VALUE=DATE:20241109
DTEND;VALUE=DATE:20241110
DTSTAMP:20260420T083930
CREATED:20241018T194819Z
LAST-MODIFIED:20241018T194819Z
UID:4884-1731110400-1731196799@bhawnayagya.org
SUMMARY:Kamadhenu Wish-Fulfilling Yagya Nov. 9\, 2024
DESCRIPTION:
URL:https://bhawnayagya.org/event/kamadhenu-wish-fulfilling-yagya-nov-9-2024/
END:VEVENT
BEGIN:VEVENT
DTSTART;VALUE=DATE:20241112
DTEND;VALUE=DATE:20241113
DTSTAMP:20260420T083930
CREATED:20241018T195029Z
LAST-MODIFIED:20241018T195029Z
UID:4891-1731369600-1731455999@bhawnayagya.org
SUMMARY:Satyanarayana Vishnu Yagya on Devaprabodhini Day Nov. 12\, 2024
DESCRIPTION:
URL:https://bhawnayagya.org/event/satyanarayana-vishnu-yagya-on-devaprabodhini-day-nov-12-2024/
END:VEVENT
BEGIN:VEVENT
DTSTART;VALUE=DATE:20241115
DTEND;VALUE=DATE:20241116
DTSTAMP:20260420T083930
CREATED:20241018T194901Z
LAST-MODIFIED:20241018T194901Z
UID:4886-1731628800-1731715199@bhawnayagya.org
SUMMARY:Saturn Group Yagya Nov. 15\, 2024
DESCRIPTION:
URL:https://bhawnayagya.org/event/saturn-group-yagya-nov-15-2024/
END:VEVENT
BEGIN:VEVENT
DTSTART;VALUE=DATE:20241117
DTEND;VALUE=DATE:20241118
DTSTAMP:20260420T083930
CREATED:20241018T195445Z
LAST-MODIFIED:20241018T195445Z
UID:4901-1731801600-1731887999@bhawnayagya.org
SUMMARY:Ganesh Removal Of Obstacles Group Yagya Jan. 17\, 2025
DESCRIPTION:
URL:https://bhawnayagya.org/event/ganesh-removal-of-obstacles-group-yagya-jan-17-2025/
END:VEVENT
BEGIN:VEVENT
DTSTART;VALUE=DATE:20241126
DTEND;VALUE=DATE:20241127
DTSTAMP:20260420T083930
CREATED:20241018T194942Z
LAST-MODIFIED:20241018T194942Z
UID:4889-1732579200-1732665599@bhawnayagya.org
SUMMARY:Mercury Retrograde/Combust Group Yagya Nov. 26\, 2024
DESCRIPTION:
URL:https://bhawnayagya.org/event/mercury-retrograde-combust-group-yagya-nov-26-2024/
END:VEVENT
END:VCALENDAR