BEGIN:VCALENDAR
VERSION:2.0
PRODID:-//Bhavana Pujan Kendra - ECPv6.15.20//NONSGML v1.0//EN
CALSCALE:GREGORIAN
METHOD:PUBLISH
X-WR-CALNAME:Bhavana Pujan Kendra
X-ORIGINAL-URL:https://bhawnayagya.org
X-WR-CALDESC:Events for Bhavana Pujan Kendra
REFRESH-INTERVAL;VALUE=DURATION:PT1H
X-Robots-Tag:noindex
X-PUBLISHED-TTL:PT1H
BEGIN:VTIMEZONE
TZID:UTC
BEGIN:STANDARD
TZOFFSETFROM:+0000
TZOFFSETTO:+0000
TZNAME:UTC
DTSTART:20220101T000000
END:STANDARD
END:VTIMEZONE
BEGIN:VEVENT
DTSTART;VALUE=DATE:20230816
DTEND;VALUE=DATE:20230817
DTSTAMP:20260419T231006
CREATED:20230604T141139Z
LAST-MODIFIED:20230604T141139Z
UID:2566-1692144000-1692230399@bhawnayagya.org
SUMMARY:Kamadhenu Wish-Fulling Yagya Aug. 16\, 2023
DESCRIPTION:
URL:https://bhawnayagya.org/event/kamadhenu-wish-fulling-yagya-aug-16-2023/
END:VEVENT
BEGIN:VEVENT
DTSTART;VALUE=DATE:20230810
DTEND;VALUE=DATE:20230811
DTSTAMP:20260419T231006
CREATED:20230706T184303Z
LAST-MODIFIED:20230706T184303Z
UID:2735-1691625600-1691711999@bhawnayagya.org
SUMMARY:HariHar Lord Shiva & Lord Vishnu Blessing Yagya Aug. 10\, 2023
DESCRIPTION:
URL:https://bhawnayagya.org/event/harihar-lord-shiva-lord-vishnu-blessing-yagya-aug-10-2023/
END:VEVENT
BEGIN:VEVENT
DTSTART;VALUE=DATE:20230802
DTEND;VALUE=DATE:20230901
DTSTAMP:20260419T231006
CREATED:20230604T141020Z
LAST-MODIFIED:20230604T141020Z
UID:2564-1690934400-1693526399@bhawnayagya.org
SUMMARY:Lord Shiva's Month Group Yagya Aug. 2 - Aug. 31\, 2023
DESCRIPTION:
URL:https://bhawnayagya.org/event/lord-shivas-month-group-yagya-aug-2-aug-31-2023/
END:VEVENT
BEGIN:VEVENT
DTSTART;VALUE=DATE:20230717
DTEND;VALUE=DATE:20230718
DTSTAMP:20260419T231006
CREATED:20230326T151633Z
LAST-MODIFIED:20230326T151633Z
UID:2270-1689552000-1689638399@bhawnayagya.org
SUMMARY:Kamadhenu Wish-Fulfilling Cow Protection Yagya July 17\, 2023
DESCRIPTION:
URL:https://bhawnayagya.org/event/kamadhenu-wish-fulfilling-cow-protection-yagya-july-17-2023/
CATEGORIES:Yagya
END:VEVENT
BEGIN:VEVENT
DTSTART;VALUE=DATE:20230716
DTEND;VALUE=DATE:20230717
DTSTAMP:20260419T231006
CREATED:20230609T145008Z
LAST-MODIFIED:20230609T151850Z
UID:2617-1689465600-1689551999@bhawnayagya.org
SUMMARY:Sun and Eyesight Protection Yagya on July 16\, 2023
DESCRIPTION:
URL:https://bhawnayagya.org/event/gayatri-yagya-on-july-13-2023/
CATEGORIES:Yagya
END:VEVENT
BEGIN:VEVENT
DTSTART;VALUE=DATE:20230713
DTEND;VALUE=DATE:20230714
DTSTAMP:20260419T231006
CREATED:20230326T151502Z
LAST-MODIFIED:20230609T151749Z
UID:2268-1689206400-1689292799@bhawnayagya.org
SUMMARY:Home/Office Blessing Vastu Shanti Yagya on July 13\, 2023
DESCRIPTION:
URL:https://bhawnayagya.org/event/home-office-blessing-vastu-shanti-yagya-on-july-13-2023/
CATEGORIES:Yagya
END:VEVENT
BEGIN:VEVENT
DTSTART;VALUE=DATE:20230703
DTEND;VALUE=DATE:20230704
DTSTAMP:20260419T231006
CREATED:20230327T165042Z
LAST-MODIFIED:20230327T165042Z
UID:2279-1688342400-1688428799@bhawnayagya.org
SUMMARY:Moon Support Group Yagya on July 3\, 2023
DESCRIPTION:
URL:https://bhawnayagya.org/event/moon-support-group-yagya-on-july-3-2023/
CATEGORIES:Yagya
END:VEVENT
BEGIN:VEVENT
DTSTART;VALUE=DATE:20230703
DTEND;VALUE=DATE:20230704
DTSTAMP:20260419T231006
CREATED:20230326T151410Z
LAST-MODIFIED:20230326T151410Z
UID:2266-1688342400-1688428799@bhawnayagya.org
SUMMARY:Guru Purnima-Day of Spiritual Masters Enlightenment & Devotion Yagya on July 3\, 2023
DESCRIPTION:
URL:https://bhawnayagya.org/event/guru-purnima-day-of-spiritual-masters-enlightenment-devotion-yagya-on-july-3-2023/
CATEGORIES:Yagya
END:VEVENT
BEGIN:VEVENT
DTSTART;VALUE=DATE:20230620
DTEND;VALUE=DATE:20230621
DTSTAMP:20260419T231006
CREATED:20230326T151151Z
LAST-MODIFIED:20230326T151754Z
UID:2262-1687219200-1687305599@bhawnayagya.org
SUMMARY:200% of Life Yagya: Fullness of Material & Spiritual on Jagannath Yatra Day June 20\, 203
DESCRIPTION:
URL:https://bhawnayagya.org/event/200-of-life-yagya-fullness-of-material-spiritual-on-jagannath-yatra-day-june-20-203/
CATEGORIES:Yagya
END:VEVENT
BEGIN:VEVENT
DTSTART;VALUE=DATE:20230618
DTEND;VALUE=DATE:20230619
DTSTAMP:20260419T231006
CREATED:20230326T151248Z
LAST-MODIFIED:20230326T151248Z
UID:2264-1687046400-1687132799@bhawnayagya.org
SUMMARY:Kamadhenu Wish-Fulfilling Cow Protection Yagya June 18\, 2023
DESCRIPTION:
URL:https://bhawnayagya.org/event/kamadhenu-wish-fulfilling-cow-protection-yagya-june-18-2023/
CATEGORIES:Yagya
END:VEVENT
BEGIN:VEVENT
DTSTART;VALUE=DATE:20230614
DTEND;VALUE=DATE:20230629
DTSTAMP:20260419T231006
CREATED:20230504T150635Z
LAST-MODIFIED:20230504T150728Z
UID:2445-1686700800-1687996799@bhawnayagya.org
SUMMARY:Nine Planet & 27 Lunar Mansion 2 Week Group Yagya June 14-28\, 2023
DESCRIPTION:
URL:https://bhawnayagya.org/event/nine-planet-27-lunar-mansion-2-week-group-yagya-june-14-28-2023/
END:VEVENT
BEGIN:VEVENT
DTSTART;VALUE=DATE:20230602
DTEND;VALUE=DATE:20230603
DTSTAMP:20260419T231006
CREATED:20230504T150544Z
LAST-MODIFIED:20230504T150625Z
UID:2443-1685664000-1685750399@bhawnayagya.org
SUMMARY:Venus Wealth & Good Fortune Group Yagya June 2\, 2023
DESCRIPTION:
URL:https://bhawnayagya.org/event/venus-wealth-good-fortune-group-yagya-june-2-2023/
END:VEVENT
BEGIN:VEVENT
DTSTART;VALUE=DATE:20230530
DTEND;VALUE=DATE:20230531
DTSTAMP:20260419T231006
CREATED:20230326T150340Z
LAST-MODIFIED:20230326T150340Z
UID:2255-1685404800-1685491199@bhawnayagya.org
SUMMARY:Purification & Removal of Negative Karma Yagya on Ganges Birthday May 30\, 2023
DESCRIPTION:
URL:https://bhawnayagya.org/event/purification-removal-of-negative-karma-yagya-on-ganges-birthday-may-30-2023/
CATEGORIES:Yagya
END:VEVENT
BEGIN:VEVENT
DTSTART;VALUE=DATE:20230519
DTEND;VALUE=DATE:20230520
DTSTAMP:20260419T231006
CREATED:20230326T150642Z
LAST-MODIFIED:20230326T150642Z
UID:2258-1684454400-1684540799@bhawnayagya.org
SUMMARY:Kamadhenu Wish-Fulfilling Cow Yagya May 19\, 2023
DESCRIPTION:
URL:https://bhawnayagya.org/event/kamadhenu-wish-fulfilling-cow-yagya-may-19-2023/
CATEGORIES:Yagya
END:VEVENT
BEGIN:VEVENT
DTSTART;VALUE=DATE:20230519
DTEND;VALUE=DATE:20230520
DTSTAMP:20260419T231006
CREATED:20230326T150235Z
LAST-MODIFIED:20230326T150235Z
UID:2253-1684454400-1684540799@bhawnayagya.org
SUMMARY:Vat Savitri Marriage/Relationship Yagya May 19\, 2023
DESCRIPTION:
URL:https://bhawnayagya.org/event/vat-savitri-marriage-relationship-yagya-may-19-2023/
CATEGORIES:Yagya
END:VEVENT
BEGIN:VEVENT
DTSTART;VALUE=DATE:20230509
DTEND;VALUE=DATE:20230510
DTSTAMP:20260419T231006
CREATED:20230327T164847Z
LAST-MODIFIED:20230327T164847Z
UID:2275-1683590400-1683676799@bhawnayagya.org
SUMMARY:Mars in Debilitation Group Yagya May 9\, 2023
DESCRIPTION:
URL:https://bhawnayagya.org/event/mars-in-debilitation-group-yagya-may-9-2023/
CATEGORIES:Yagya
END:VEVENT
BEGIN:VEVENT
DTSTART;VALUE=DATE:20230504
DTEND;VALUE=DATE:20230505
DTSTAMP:20260419T231006
CREATED:20230326T150144Z
LAST-MODIFIED:20230326T150144Z
UID:2251-1683158400-1683244799@bhawnayagya.org
SUMMARY:Lakshmi Narasimha Protection Yagya May 4\, 2023
DESCRIPTION:
URL:https://bhawnayagya.org/event/lakshmi-narasimha-protection-yagya-may-4-2023/
CATEGORIES:Yagya
END:VEVENT
BEGIN:VEVENT
DTSTART;VALUE=DATE:20230423
DTEND;VALUE=DATE:20230424
DTSTAMP:20260419T231006
CREATED:20230126T161047Z
LAST-MODIFIED:20230126T161047Z
UID:2000-1682208000-1682294399@bhawnayagya.org
SUMMARY:Sun Group Yagya April 23\, 2023
DESCRIPTION:
URL:https://bhawnayagya.org/event/sun-group-yagya-april-23-2023/
CATEGORIES:Yagya
END:VEVENT
BEGIN:VEVENT
DTSTART;VALUE=DATE:20230422
DTEND;VALUE=DATE:20230423
DTSTAMP:20260419T231006
CREATED:20230126T161158Z
LAST-MODIFIED:20230126T161158Z
UID:2002-1682121600-1682207999@bhawnayagya.org
SUMMARY:Akshaya Tritya Day of Everlasting Achievement April 22\, 2023
DESCRIPTION:
URL:https://bhawnayagya.org/event/akshaya-tritya-day-of-everlasting-achievement-april-22-2023/
CATEGORIES:Yagya
END:VEVENT
BEGIN:VEVENT
DTSTART;VALUE=DATE:20230422
DTEND;VALUE=DATE:20230423
DTSTAMP:20260419T231006
CREATED:20230126T160959Z
LAST-MODIFIED:20230126T160959Z
UID:1998-1682121600-1682207999@bhawnayagya.org
SUMMARY:Jupiter Group Yagya April 22\, 2023
DESCRIPTION:
URL:https://bhawnayagya.org/event/jupiter-group-yagya-april-22-2023/
CATEGORIES:Yagya
END:VEVENT
BEGIN:VEVENT
DTSTART;VALUE=DATE:20230420
DTEND;VALUE=DATE:20230421
DTSTAMP:20260419T231006
CREATED:20230126T160846Z
LAST-MODIFIED:20230126T160846Z
UID:1996-1681948800-1682035199@bhawnayagya.org
SUMMARY:Kamdhenu Wish-Fulfilling Yagya April 20\, 2023
DESCRIPTION:
URL:https://bhawnayagya.org/event/kamdhenu-wish-fulfilling-yagya-april-20-2023/
CATEGORIES:Yagya
END:VEVENT
BEGIN:VEVENT
DTSTART;VALUE=DATE:20230414
DTEND;VALUE=DATE:20230415
DTSTAMP:20260419T231006
CREATED:20230326T150751Z
LAST-MODIFIED:20230326T150751Z
UID:2260-1681430400-1681516799@bhawnayagya.org
SUMMARY:Yogini Ekadashi Vishnu Protection Yagya June 14\, 2023
DESCRIPTION:
URL:https://bhawnayagya.org/event/yogini-ekadashi-vishnu-protection-yagya-june-14-2023/
CATEGORIES:Yagya
END:VEVENT
BEGIN:VEVENT
DTSTART;VALUE=DATE:20230405
DTEND;VALUE=DATE:20230406
DTSTAMP:20260419T231006
CREATED:20230126T160711Z
LAST-MODIFIED:20230126T160711Z
UID:1994-1680652800-1680739199@bhawnayagya.org
SUMMARY:Hanuman Birthday Group Yagya April 5\, 2023
DESCRIPTION:
URL:https://bhawnayagya.org/event/hanuman-birthday-group-yagya-april-5-2023/
CATEGORIES:Yagya
END:VEVENT
BEGIN:VEVENT
DTSTART;VALUE=DATE:20230402
DTEND;VALUE=DATE:20230403
DTSTAMP:20260419T231006
CREATED:20230327T164938Z
LAST-MODIFIED:20230327T164938Z
UID:2277-1680393600-1680479999@bhawnayagya.org
SUMMARY:Venus Prosperity & Progress Group Yagya June 2\, 2023
DESCRIPTION:
URL:https://bhawnayagya.org/event/venus-prosperity-progress-group-yagya-june-2-2023/
CATEGORIES:Yagya
END:VEVENT
BEGIN:VEVENT
DTSTART;VALUE=DATE:20230323
DTEND;VALUE=DATE:20230324
DTSTAMP:20260419T231006
CREATED:20230126T160502Z
LAST-MODIFIED:20230126T160502Z
UID:1991-1679529600-1679615999@bhawnayagya.org
SUMMARY:Kamadhenu Wish-Fulfilling Yagya March 21\, 2023
DESCRIPTION:
URL:https://bhawnayagya.org/event/kamadhenu-wish-fulfilling-yagya-march-21-2023-2/
CATEGORIES:Yagya
END:VEVENT
BEGIN:VEVENT
DTSTART;VALUE=DATE:20230322
DTEND;VALUE=DATE:20230331
DTSTAMP:20260419T231006
CREATED:20221208T191338Z
LAST-MODIFIED:20221208T191338Z
UID:1848-1679443200-1680220799@bhawnayagya.org
SUMMARY:Spring Nine Days of Mother Divine Navratri March 22-31\, 2023
DESCRIPTION:
URL:https://bhawnayagya.org/event/spring-nine-days-of-mother-divine-navratri-march-22-31-2023/
CATEGORIES:Yagya
END:VEVENT
BEGIN:VEVENT
DTSTART;VALUE=DATE:20230317
DTEND;VALUE=DATE:20230318
DTSTAMP:20260419T231006
CREATED:20230126T160409Z
LAST-MODIFIED:20230126T160409Z
UID:1988-1679011200-1679097599@bhawnayagya.org
SUMMARY:Venus Group Yagya on March 17\, 2023
DESCRIPTION:
URL:https://bhawnayagya.org/event/venus-group-yagya-on-march-17-2023/
CATEGORIES:Yagya
END:VEVENT
BEGIN:VEVENT
DTSTART;VALUE=DATE:20230307
DTEND;VALUE=DATE:20230308
DTSTAMP:20260419T231006
CREATED:20230126T160124Z
LAST-MODIFIED:20230126T160124Z
UID:1986-1678147200-1678233599@bhawnayagya.org
SUMMARY:24 Avatar Lord Vishnu Yagya on March 7\, 2023
DESCRIPTION:
URL:https://bhawnayagya.org/event/24-avatar-lord-vishnu-yagya-on-march-7-2023/
CATEGORIES:Yagya
END:VEVENT
BEGIN:VEVENT
DTSTART;VALUE=DATE:20230220
DTEND;VALUE=DATE:20230221
DTSTAMP:20260419T231006
CREATED:20221208T190505Z
LAST-MODIFIED:20221208T190505Z
UID:1843-1676851200-1676937599@bhawnayagya.org
SUMMARY:Kamadhenu Wish-Fulfilling Yagya Feb. 20\, 2023
DESCRIPTION:
URL:https://bhawnayagya.org/event/kamadhenu-wish-fulfilling-yagya-feb-20-2023/
CATEGORIES:Yagya
END:VEVENT
BEGIN:VEVENT
DTSTART;VALUE=DATE:20230218
DTEND;VALUE=DATE:20230219
DTSTAMP:20260419T231006
CREATED:20221208T190400Z
LAST-MODIFIED:20221208T190400Z
UID:1841-1676678400-1676764799@bhawnayagya.org
SUMMARY:Maha Shivaratri Yagyas Feb. 18\, 2023
DESCRIPTION:
URL:https://bhawnayagya.org/event/maha-shivaratri-yagyas-feb-18-2023/
CATEGORIES:Yagya
END:VEVENT
END:VCALENDAR