BEGIN:VCALENDAR
VERSION:2.0
PRODID:-//Bhavana Pujan Kendra - ECPv6.15.20//NONSGML v1.0//EN
CALSCALE:GREGORIAN
METHOD:PUBLISH
X-WR-CALNAME:Bhavana Pujan Kendra
X-ORIGINAL-URL:https://bhawnayagya.org
X-WR-CALDESC:Events for Bhavana Pujan Kendra
REFRESH-INTERVAL;VALUE=DURATION:PT1H
X-Robots-Tag:noindex
X-PUBLISHED-TTL:PT1H
BEGIN:VTIMEZONE
TZID:UTC
BEGIN:STANDARD
TZOFFSETFROM:+0000
TZOFFSETTO:+0000
TZNAME:UTC
DTSTART:20240101T000000
END:STANDARD
END:VTIMEZONE
BEGIN:VEVENT
DTSTART;VALUE=DATE:20251120
DTEND;VALUE=DATE:20251121
DTSTAMP:20260420T145035
CREATED:20250805T150311Z
LAST-MODIFIED:20250805T150311Z
UID:6365-1763596800-1763683199@bhawnayagya.org
SUMMARY:Kamadhenu Wish-Fulfilling Yagya
DESCRIPTION:
URL:https://bhawnayagya.org/event/kamadhenu-wish-fulfilling-yagya-2/
END:VEVENT
END:VCALENDAR