BEGIN:VCALENDAR
VERSION:2.0
PRODID:-//Bhavana Pujan Kendra - ECPv6.15.20//NONSGML v1.0//EN
CALSCALE:GREGORIAN
METHOD:PUBLISH
X-ORIGINAL-URL:https://bhawnayagya.org
X-WR-CALDESC:Events for Bhavana Pujan Kendra
REFRESH-INTERVAL;VALUE=DURATION:PT1H
X-Robots-Tag:noindex
X-PUBLISHED-TTL:PT1H
BEGIN:VTIMEZONE
TZID:UTC
BEGIN:STANDARD
TZOFFSETFROM:+0000
TZOFFSETTO:+0000
TZNAME:UTC
DTSTART:20240101T000000
END:STANDARD
END:VTIMEZONE
BEGIN:VEVENT
DTSTART;VALUE=DATE:20251102
DTEND;VALUE=DATE:20251103
DTSTAMP:20260420T131818
CREATED:20250805T150032Z
LAST-MODIFIED:20250805T150032Z
UID:6357-1762041600-1762127999@bhawnayagya.org
SUMMARY:Lakshmi Narayan Yagya on Tulsi Vivah Day
DESCRIPTION:
URL:https://bhawnayagya.org/event/lakshmi-narayan-yagya-on-tulsi-vivah-day/
END:VEVENT
END:VCALENDAR