BEGIN:VCALENDAR
VERSION:2.0
PRODID:-//Bhavana Pujan Kendra - ECPv6.15.20//NONSGML v1.0//EN
CALSCALE:GREGORIAN
METHOD:PUBLISH
X-ORIGINAL-URL:https://bhawnayagya.org
X-WR-CALDESC:Events for Bhavana Pujan Kendra
REFRESH-INTERVAL;VALUE=DURATION:PT1H
X-Robots-Tag:noindex
X-PUBLISHED-TTL:PT1H
BEGIN:VTIMEZONE
TZID:UTC
BEGIN:STANDARD
TZOFFSETFROM:+0000
TZOFFSETTO:+0000
TZNAME:UTC
DTSTART:20240101T000000
END:STANDARD
END:VTIMEZONE
BEGIN:VEVENT
DTSTART;VALUE=DATE:20251019
DTEND;VALUE=DATE:20251020
DTSTAMP:20260420T131817
CREATED:20250713T160952Z
LAST-MODIFIED:20250713T160952Z
UID:6219-1760832000-1760918399@bhawnayagya.org
SUMMARY:Hanuman Birthday Yagya for Courage\, Energy & Devotion
DESCRIPTION:
URL:https://bhawnayagya.org/event/hanuman-birthday-yagya-for-courage-energy-devotion/
END:VEVENT
BEGIN:VEVENT
DTSTART;VALUE=DATE:20251019
DTEND;VALUE=DATE:20251020
DTSTAMP:20260420T131817
CREATED:20250805T145631Z
LAST-MODIFIED:20250805T145631Z
UID:6349-1760832000-1760918399@bhawnayagya.org
SUMMARY:Jupiter Support Group Yagya
DESCRIPTION:
URL:https://bhawnayagya.org/event/jupiter-support-group-yagya/
END:VEVENT
END:VCALENDAR