BEGIN:VCALENDAR
VERSION:2.0
PRODID:-//Bhavana Pujan Kendra - ECPv6.15.20//NONSGML v1.0//EN
CALSCALE:GREGORIAN
METHOD:PUBLISH
X-ORIGINAL-URL:https://bhawnayagya.org
X-WR-CALDESC:Events for Bhavana Pujan Kendra
REFRESH-INTERVAL;VALUE=DURATION:PT1H
X-Robots-Tag:noindex
X-PUBLISHED-TTL:PT1H
BEGIN:VTIMEZONE
TZID:UTC
BEGIN:STANDARD
TZOFFSETFROM:+0000
TZOFFSETTO:+0000
TZNAME:UTC
DTSTART:20240101T000000
END:STANDARD
END:VTIMEZONE
BEGIN:VEVENT
DTSTART;VALUE=DATE:20250922
DTEND;VALUE=DATE:20251002
DTSTAMP:20260420T120350
CREATED:20250502T194346Z
LAST-MODIFIED:20250502T194346Z
UID:5810-1758499200-1759363199@bhawnayagya.org
SUMMARY:Fall Mother Divine Days Sept. 22- Oct. 1\, 2025
DESCRIPTION:
URL:https://bhawnayagya.org/event/fall-mother-divine-days-sept-22-oct-1-2025/
CATEGORIES:Yagya
END:VEVENT
BEGIN:VEVENT
DTSTART;VALUE=DATE:20250925
DTEND;VALUE=DATE:20250926
DTSTAMP:20260420T120350
CREATED:20250805T150239Z
LAST-MODIFIED:20250805T150239Z
UID:6363-1758758400-1758844799@bhawnayagya.org
SUMMARY:Sita Ram Love & Devotion Yagya
DESCRIPTION:
URL:https://bhawnayagya.org/event/sita-ram-love-devotion-yagya/
END:VEVENT
END:VCALENDAR