BEGIN:VCALENDAR
VERSION:2.0
PRODID:-//Bhavana Pujan Kendra - ECPv6.15.20//NONSGML v1.0//EN
CALSCALE:GREGORIAN
METHOD:PUBLISH
X-WR-CALNAME:Bhavana Pujan Kendra
X-ORIGINAL-URL:https://bhawnayagya.org
X-WR-CALDESC:Events for Bhavana Pujan Kendra
REFRESH-INTERVAL;VALUE=DURATION:PT1H
X-Robots-Tag:noindex
X-PUBLISHED-TTL:PT1H
BEGIN:VTIMEZONE
TZID:UTC
BEGIN:STANDARD
TZOFFSETFROM:+0000
TZOFFSETTO:+0000
TZNAME:UTC
DTSTART:20230101T000000
END:STANDARD
END:VTIMEZONE
BEGIN:VEVENT
DTSTART;VALUE=DATE:20241003
DTEND;VALUE=DATE:20241012
DTSTAMP:20260420T083803
CREATED:20240518T135302Z
LAST-MODIFIED:20240518T135302Z
UID:4167-1727913600-1728691199@bhawnayagya.org
SUMMARY:Mother Divine Days Yagya Oct. 3-11\, 2024
DESCRIPTION:
URL:https://bhawnayagya.org/event/mother-divine-days-yagya-oct-3-11-2024/
END:VEVENT
END:VCALENDAR